BEGIN:VCALENDAR
VERSION:2.0
X-WR-CALNAME:www.indybay.org
PRODID:-//indybay/ical// v1.0//EN
BEGIN:VEVENT
UID:Indybay-18793181
SEQUENCE:18925895
CREATED:20161107T211400Z
DESCRIPTION:Globalization has been one of the most influential economic forces of the 
 last century. The Internet has connected the world in ways that would have 
 been unfathomable just a few years ago, China and other emerging nations’ 
 economic fluctuations have impacted international markets, and terrorism 
 has caused the biggest refugee flows in decades. It is no secret that many 
 issues related to globalization such as trade, immigration, and climate 
 change have been at the forefront of the current US elections.\n\nWhat 
 policy decisions related to globalization will the new president face, 
 regardless of who wins in November? What immediate actions should the next 
 administration take? Jeffrey Garten, who served in the Nixon, Ford, Carter 
 and Clinton administrations and is also dean emeritus at the Yale School of 
 Management, will share his views.\n\nThrough the riveting stories of ten 
 extraordinary visionaries, Jeffrey Garten's new book, "From Silk to 
 Silicon: The Story of Globalization Through Ten Extraordinary Lives" 
 explores how globalization has changed world history and continues to shape 
 our lives.\n\nSPEAKER:\n\nJeffrey E. Garten\nDean Emeritus, Yale School of 
 Management, and Author of "From Silk to Silicon: The Story of Globalization 
 Through Ten Extraordinary Lives"\n\nMODERATOR:\n\nJane Wales\nCEO, World 
 Affairs and Global Philanthropy Forum; Vice President, The Aspen 
 Institute\n https://www.indybay.org/newsitems/2016/11/07/18793181.php
SUMMARY:Globalization and the Next Administration
LOCATION:World Affairs Auditorium\n312 Sutter Street, Suite 200\nSan Francisco, CA
URL:https://www.indybay.org/newsitems/2016/11/07/18793181.php
DTSTART:20161118T023000Z
DTEND:20161118T033000Z
END:VEVENT
END:VCALENDAR
