BEGIN:VCALENDAR
VERSION:2.0
X-WR-CALNAME:www.indybay.org
PRODID:-//indybay/ical// v1.0//EN
BEGIN:VEVENT
UID:Indybay-18793148
SEQUENCE:18925805
CREATED:20161106T071800Z
DESCRIPTION:Gray Panthers Presents\n\nGrowing Dangers of Wars\nAmong Nuclear-Armed 
 States:\nThe Imperative of Nuclear Disarmament\n\nJackie Cabasso, Director, 
 Western States Legal Foundation\n\nTuesday, November 15, 2 PM\nFireside 
 Room, Unitarian Center\n1187 Franklin St.  (at Geary)\nFree, Public 
 Invited, Wheelchairs OK\n\nJackie Cabasso has been continuously active in 
 nuclear disarmament, peace and environmental advocacy for decades. She has 
 spoken at public hearings, legislative symposia and conferences around the 
 United States, Europe, Asia, and Latin America, and has addressed rallies 
 and gatherings at the Livermore and Los Alamos nuclear weapons 
 laboratories, at US nuclear test sites, and in Hiroshima and 
 Nagasaki.\n\nAs director of the Western States Legal Foundation, Jackie 
 Cabasso monitors and analyzes U.S. nuclear weapons programs and policies 
 and related high technology energy and weapons programs.\n\nJackie is 
 contributing author to a new collection of papers entitled, Rethinking 
 General and Complete Disarmament in the Twenty-First Century, published by 
 the United Nations in October 2016. She received the International Peace 
 Bureau’s 2008 Sean MacBride Peace Award, and the Agape Foundation’s 
 2009 Enduring Visionary Prize.\n\nContact: \nDenise D'Anne, 
 ddanne1@sbcglobal.net, 415-431-4172, or\nMichael Lyon, mlyon01@comcast.net, 
 415-215-7575\n https://www.indybay.org/newsitems/2016/11/06/18793148.php
SUMMARY:Growing Dangers of Wars Among Nuclear-Armed States
LOCATION:Fireside Room, Unitarian Center\n1187 Franklin St. (at Geary)
URL:https://www.indybay.org/newsitems/2016/11/06/18793148.php
DTSTART:20161115T220000Z
DTEND:20161115T230000Z
END:VEVENT
END:VCALENDAR
