BEGIN:VCALENDAR
VERSION:2.0
X-WR-CALNAME:www.indybay.org
PRODID:-//indybay/ical// v1.0//EN
BEGIN:VEVENT
UID:Indybay-18792913
SEQUENCE:18925388
CREATED:20161031T234800Z
DESCRIPTION:Join us for the nationwide release of Sea Shepherd Conservation Society's 
 first full length in-house documentary, "Why Just One?". \n\nThis 
 documentary will change the way people see sea turtles and those who risk 
 their lives to defend them.\n\nIn Why Just One?, Sea Shepherd explores the 
 widely accepted statistic that just one in one thousand sea turtle 
 hatchlings survive to maturity. Experts, conservationists, government 
 representatives and poachers are interviewed, including one of murdered 
 turtle activist Jairo Mora Sandoval's closest friends. This is a story of 
 courage, action and hope that good will prevail before it’s too late. Why 
 Just One? will move people emotionally – and move them to take action for 
 the turtles.\n\nStay after for a Q&A with volunteers who have participated 
 in the Sea Shepherd Operation Jairo Campaign, focusing on sea turtles in 
 Costa Rica, Honduras, and Florida.\n 
 https://www.indybay.org/newsitems/2016/10/31/18792913.php
SUMMARY:Sea Shepherd Movie Premiere: "Why Just One?"
LOCATION:Sacred Stream\n2149 Byron St, Berkeley, California 94702
URL:https://www.indybay.org/newsitems/2016/10/31/18792913.php
DTSTART:20161106T020000Z
DTEND:20161106T040000Z
END:VEVENT
END:VCALENDAR
