BEGIN:VCALENDAR
VERSION:2.0
X-WR-CALNAME:www.indybay.org
PRODID:-//indybay/ical// v1.0//EN
BEGIN:VEVENT
UID:Indybay-18792871
SEQUENCE:18925330
CREATED:20161030T185400Z
DESCRIPTION:Join us on Monday, October 31 (Halloween), for October's Burrito Project! 
 Volunteers will be cooking up and handing out ~200 vegan burritos to folks 
 living on the streets of SF, rain or shine! Come in your street clothing or 
 in costume. \n\nAll are welcome, we'd especially love more bicyclists to 
 help us distribute \n\nAs always, details can be found 
 at\nhttp://burritoprojectsf.org/\nhttp://facebook.com/burritoprojectsf\n 
 https://www.indybay.org/newsitems/2016/10/30/18792871.php
SUMMARY:Burrito Project - SF
LOCATION:Martin de Porres House of Hospitality\n225 Potrero Ave, San Francisco, CA 
 94103
URL:https://www.indybay.org/newsitems/2016/10/30/18792871.php
DTSTART:20161031T230000Z
DTEND:20161101T010000Z
END:VEVENT
END:VCALENDAR
