BEGIN:VCALENDAR
VERSION:2.0
X-WR-CALNAME:www.indybay.org
PRODID:-//indybay/ical// v1.0//EN
BEGIN:VEVENT
UID:Indybay-18792869
SEQUENCE:18925310
CREATED:20161030T180400Z
DESCRIPTION:A benefit concert and social to defeat Measure D\n\n2:00 PM Social 
 Hour\n3:00 PM Program\nDonation $20 or more to help get the facts out to 
 voters.\n\n“Measure D will waste over $100 million on auxiliary lanes 
 connecting on-ramps to off-ramps in 6 locations on Highway 1. They won’t 
 reduce congestion, which is the biggest transportation problem in our 
 county,” said organizers. “The money is better spent on other 
 transportation improvements that truly will make life better here. If you 
 agree, support the effort to get the facts to voters. Come to this benefit 
 concert.”\n\nPerformers: Gail Swain, Michael Levy, Rus Brutsché, Eric 
 Schneider and John Malkin.\nGail Swain sings with heart as big as a 
 dinosaur and a voice to match.\nMichael Levy performing songs from his 
 forthcoming album, Great Big Love.\nRus Brutsché singer and songwriter 
 with roots in folks, rock, and jazz.\nEric Schneider and John Malkin, 
 bringing Rumi to life.\n 
 https://www.indybay.org/newsitems/2016/10/30/18792869.php
SUMMARY:Spirit of the Dinosaurs - A Party to Stop Highway 1 Widening in Santa Cruz County
LOCATION:Quaker Meetinghouse\n225 Rooney Street \nSanta Cruz, CA 95065
URL:https://www.indybay.org/newsitems/2016/10/30/18792869.php
DTSTART:20161030T210000Z
DTEND:20161031T000000Z
END:VEVENT
END:VCALENDAR
