BEGIN:VCALENDAR
VERSION:2.0
X-WR-CALNAME:www.indybay.org
PRODID:-//indybay/ical// v1.0//EN
BEGIN:VEVENT
UID:Indybay-18792800
SEQUENCE:18925217
CREATED:20161028T094700Z
DESCRIPTION:Do to the SEVERITY oF GLOBAL WARMING the 7th Annual Stop Driving Boycott of 
 personal Car use is moving to an Emergency Monthly Basis. the Cintiuing 
 Consecutive Month after Month of Hotter Temps go on. This Weeks WAKE UP 
 CALL that the Worlds Carbon Dioxide levels are now Above 400 part per 
 Million as we have been educated 350 (.org) is the Maximum is the Highest 
 level if the Entire Human Race is going to make a Future for its Chioldren. 
 We must come together and simply show some self restraint but the Time is 
 Now and Travel just has to be altered not completely stopped. This is the 
 Second Day for more info. check www.stopdriving.org\n 
 https://www.indybay.org/newsitems/2016/10/28/18792800.php
SUMMARY:7th Annual 9-11 4 Day Stop Driving goes monthly
LOCATION:Starting in the Greater Bay Area with the Objective to the Entire north 
 American Continent (Turtle Island).
URL:https://www.indybay.org/newsitems/2016/10/28/18792800.php
DTSTART:20161112T140000Z
DTEND:20161113T140000Z
END:VEVENT
END:VCALENDAR
