BEGIN:VCALENDAR
VERSION:2.0
X-WR-CALNAME:www.indybay.org
PRODID:-//indybay/ical// v1.0//EN
BEGIN:VEVENT
UID:Indybay-18792200
SEQUENCE:18924215
CREATED:20161013T211100Z
DESCRIPTION:ONE DAY DYNAMIC TRAINING FOR ACTIVISTS, EDUCATORS, ORGANIZERS, AND 
 NON-PROFIT ORGANIZATIONS\nNovember 10th\n9:00am - 4:30pm\n\nStrong 
 organizations, communities, schools and social movements depend on our 
 capacity to work effectively together across lines of difference and 
 cultivate trusting relationships of mutual support and solidarity.\n\nIn 
 this training, we will share creative tools to explore issues of social 
 identity and privilege; develop capacity for deep listening, empathy, and 
 solidarity; and resource ourselves to take effective action as an ally - in 
 our schools, neighborhood and organizations.\n\nGrounded in an 
 anti-oppression framework of collective liberation, you will learn a 
 variety of dynamic modalities including poetry, visual art, story sharing, 
 listening practices and Theater of the Oppressed techniques.\n\nFacilitated 
 by Aryeh Shell and Cherine Badawi\nFor more information, contact 
 aryeh@creativeactioninstitute.org\nTo register: 
 https://www.eventbrite.com/e/creative-tools-for-effective-allyship-tickets-27908556243\nSome 
 partial work trades available.\n 
 https://www.indybay.org/newsitems/2016/10/13/18792200.php
SUMMARY:Creative Tools for Effective Allyship Workshop
LOCATION:Humanist Hall\n390 27th St\nOakland, CA
URL:https://www.indybay.org/newsitems/2016/10/13/18792200.php
DTSTART:20161110T170000Z
DTEND:20161111T010000Z
END:VEVENT
END:VCALENDAR
