BEGIN:VCALENDAR
VERSION:2.0
X-WR-CALNAME:www.indybay.org
PRODID:-//indybay/ical// v1.0//EN
BEGIN:VEVENT
UID:Indybay-18791962
SEQUENCE:18923857
CREATED:20161006T210100Z
DESCRIPTION:Thee pre-eminent raconteur on all things Trickster, John Law (AKA Jack 
 Napier) instigates a    laff-riot of public put-ons and sub-cult capers 
 that carries on the momentum from the recent Joey Skaggs\n    biopic. In 
 fact, a couple of classic Skaggs gags are in John's video mix tonight, but 
 not before the spoofing scene is\nset with nods to Duchamp/Dada, the 
 Situationists, the Diggers, the Yippies,    Alan Abel, et al. In SF, 
 pranksters were certainly set free with the infamous Suicide Club and\nits 
 more broad-based offspring, the Cacophony Society-in fact the subject of 
 John's book and the inspiration for    Fight Club! ALSO: John's own gang 
 the Billboard Liberation Front, Agent Apple\nthe pie-throwing Avenger, the 
 Guerrilla Girls, Gay Shame, SubGenius,    Militant Librarians, Banksy, 
 Barbie Liberation Organization, Yes Men,\n    and culture-jammers 
 galore...even streakers! PLUS our bank-robbing film-maker Joe Gibbons!! 
 *$7.77\n https://www.indybay.org/newsitems/2016/10/06/18791962.php
SUMMARY:OTHER CINEMA: John Law's History of Pranks + Yes Men
LOCATION:ATA Gallery / Other Cinema 992 Valencia Street San Francisco, CA 94110 
URL:https://www.indybay.org/newsitems/2016/10/06/18791962.php
DTSTART:20161023T033000Z
DTEND:20161023T050000Z
END:VEVENT
END:VCALENDAR
