BEGIN:VCALENDAR
VERSION:2.0
X-WR-CALNAME:www.indybay.org
PRODID:-//indybay/ical// v1.0//EN
BEGIN:VEVENT
UID:Indybay-18791700
SEQUENCE:18923491
CREATED:20160927T015900Z
DESCRIPTION:Speaker followed by discussion period.\nBreak with the Democrats and 
 Republicans!\nCapitalist Green Party No Alternative!\nWe Need a Multiracial 
 Workers Party to Fight for Socialist Revolution!\n-----\nThe Oakland Public 
 Library does not advocate or endorse the viewpoints of meetings or meeting 
 room users.\n https://www.indybay.org/newsitems/2016/09/26/18791700.php
SUMMARY:Elections 2016: Racist Bigots and Imperialist War Hawks
LOCATION:Oakland Public Library Main Branch\n125 14th St., Oakland\nBradley Walters 
 Community Room (downstairs)\n(between Oak and Madison; 8 min. walk from 
 12th St. or Lake Merritt BART)
URL:https://www.indybay.org/newsitems/2016/09/26/18791700.php
DTSTART:20161016T210000Z
DTEND:20161016T230000Z
END:VEVENT
END:VCALENDAR
