BEGIN:VCALENDAR
VERSION:2.0
X-WR-CALNAME:www.indybay.org
PRODID:-//indybay/ical// v1.0//EN
BEGIN:VEVENT
UID:Indybay-18791350
SEQUENCE:18922907
CREATED:20160917T021300Z
DESCRIPTION:36th Anniversary of the FMLN and CISPES\nParty for Migrant Justice\n \nJoin 
 us to celebrate with music, poetry, folkloric dance, cumbia and 
 salsa\nSat., Oct. 1\n4:30 p.m. to 8 p.m.\nSEIU Local 1021, 350 Rhode 
 Island\n(enter from Kansas Street, between 16th and 17th Sts)\n \n$10 for 
 ticket, includes admission and dinner\n \nBenefit for the Northern 
 California Farabundo Marti front for National Liberation (FMLN) and the Bay 
 Area Committee in Solidarity with the People of El Salvador (CISPES)\n 
 \nFor more information, contact 415-503-0789 or bayarea@cispes.org\n 
 \nFiesta para Justicia Migrante\n36º aniversario de el FMLN y 
 CISPES\n\nÚnase a nosotros para celebrar con música, poesía, danza 
 folklórica, cumbia y salsa\nSabado, 1 de octubre\n4:30 p.m. a 8 p.m.\nSEIU 
 Local 1021, 350 Rhode Island\n(entra en Calle Kansas, entre calles 16th y 
 17th )\n \n$10 por boleto, incluye admission y cena\n \nBeneficio para el 
 Frente Farabundo Martí para la Liberación Nacional del Norte de 
 California (FMLN) y Comité en Solidaridad con el Pueblo de El Salvador del 
 Area de la Bahía (CISPES)\n \nPara mas informacíon, contacto a 
 415-503-0789 o bayarea@cispes.org\nAttachments area\nBay Area CISPES via 
 lists.mayfirst.org 
 \n\n\n_______________________________________________\nBayareacispes-ern 
 mailing list\n\nPost: Bayareacispes-ern@lists.mayfirst.org\nList info: 
 https://lists.mayfirst.org/mailman/listinfo/bayareacispes-ern\n\nTo 
 Unsubscribe\n        Send email to:  
 Bayareacispes-ern-unsubscribe@lists.mayfirst.org\n        Or visit: 
 https://lists.mayfirst.org/mailman/options/bayareacispes-ern/afisher800%40gmail.com\n\nYou 
 are subscribed as: afisher800@gmail.com\nAttachments area\n	\nClick here to 
 Reply, Reply to all, or Forward\n8.04 GB (53%) of 15 GB used\nManage\nTerms 
 - Privacy\nLast account activity: 15 minutes ago\nDetails\n\n 
 https://www.indybay.org/newsitems/2016/09/16/18791350.php
SUMMARY:36th anniversary CISPES/FMLN: Party for Migrant Justice
LOCATION:SEIU Local 1021, 350 Rhode Island\n(enter from Kansas Street, between 16th 
 and 17th Sts)\n San Francisco
URL:https://www.indybay.org/newsitems/2016/09/16/18791350.php
DTSTART:20161001T233000Z
DTEND:20161002T023000Z
END:VEVENT
END:VCALENDAR
