BEGIN:VCALENDAR
VERSION:2.0
X-WR-CALNAME:www.indybay.org
PRODID:-//indybay/ical// v1.0//EN
BEGIN:VEVENT
UID:Indybay-18791327
SEQUENCE:18923674
CREATED:20160917T000500Z
DESCRIPTION:Benefit screening of new documentary by Kevin Pina about the Occupy 
 Movement on the 5th anniversary of Occupy.\n\nWe will also have an update 
 about the elections in Haiti that take place that day with Pierre 
 Labossiere and an update on the Love Not Blood Campaign with Oscar Grant's 
 uncle, Cephus (Uncle Bobby) Johnson.\n\nProceeds go to Haiti Action 
 Committee and Love Not Blood Campaign.\n\n$10-20 sliding scale\n(No one 
 turned away for lack of funds)\n 
 https://www.indybay.org/newsitems/2016/09/16/18791327.php
SUMMARY:#OO (Occupy Oakland)
LOCATION:Omni Commons Ballroom\n4799 Shattuck Ave. Oakland
URL:https://www.indybay.org/newsitems/2016/09/16/18791327.php
DTSTART:20161010T020000Z
DTEND:20161010T043000Z
END:VEVENT
END:VCALENDAR
