BEGIN:VCALENDAR
VERSION:2.0
X-WR-CALNAME:www.indybay.org
PRODID:-//indybay/ical// v1.0//EN
BEGIN:VEVENT
UID:Indybay-18790881
SEQUENCE:18922486
CREATED:20160906T080100Z
DESCRIPTION:Please join us for a Press Conference to stand in solidarity with NoDAPL 
 and to send a clear message to the Army Corps of Engineers to do the right 
 thing and to deny permits for the Dakota Access Pipeline. Please contact 
 organizers via this page 
 (https://www.facebook.com/events/1097166077035611/) to sign on to the 
 letter that is being submitted if you are a non profit organization/agency 
 or Tribal entity. \n\nThis is the second action on behalf of NoDAPL 
 organized by the No DAPL Solidarity, SF, #NoDAPLSolidaritySF. \n\nFor more 
 information about growing movement NoDAPL see www.sacredstonecamp.org\n 
 https://www.indybay.org/newsitems/2016/09/06/18790881.php
SUMMARY:No DAPL Press Conference
LOCATION:SF offices of the Army Corp of Engineers, 1455 Market Street, San Francisco
URL:https://www.indybay.org/newsitems/2016/09/06/18790881.php
DTSTART:20160908T170000Z
DTEND:20160908T180000Z
END:VEVENT
END:VCALENDAR
