BEGIN:VCALENDAR
VERSION:2.0
X-WR-CALNAME:www.indybay.org
PRODID:-//indybay/ical// v1.0//EN
BEGIN:VEVENT
UID:Indybay-18790233
SEQUENCE:18921324
CREATED:20160818T140600Z
DESCRIPTION:Don’t miss the next general meeting of the Oakland Justice Coalition. We 
 have a full agenda and need your help to begin the work of supporting our 
 candidates.\n\nAgenda\n\nWelcome and Brief Orientation\n(TBD: Presentation 
 by Registrar of Voters)\nCandidate Endorsements\nReview and Consideration 
 of Changes to Ballot Initiatives\nRent Protection\nPolice 
 Commission\nCandidate Support and Committee Sign Up/Planning\n\nCandidates 
 Presented for Endorsement on 8/21\n\nDistrict 3\nSchool Board: Kharyshi 
 Wiginton\n\nDistrict 5\nSchool Board: Mike Hutcheson\n\nDistrict 7\nCity 
 Council: Nehanda Imara\n\nCandidates We’ve Endorsed To Date\n\nDistrict 
 3\nSchool Board: Don Macleay\nCity Council: Noni Session\n\nDistrict 
 7\nSchool Board: Chris Jackson\n 
 https://www.indybay.org/newsitems/2016/08/18/18790233.php
SUMMARY:Oakland Justice Coalition General Meeting
LOCATION:Siegel & Yee, 3rd floor (between City Hall and the 12th St. mini-mall)\n499 
 14th St\nOakland, CA 94612\n 
URL:https://www.indybay.org/newsitems/2016/08/18/18790233.php
DTSTART:20160820T200000Z
DTEND:20160820T223000Z
END:VEVENT
END:VCALENDAR
