BEGIN:VCALENDAR
VERSION:2.0
X-WR-CALNAME:www.indybay.org
PRODID:-//indybay/ical// v1.0//EN
BEGIN:VEVENT
UID:Indybay-18788189
SEQUENCE:18918004
CREATED:20160627T213800Z
DESCRIPTION:JULY 21\n6:00 - 10:00 PM\nLOCATION:\nCalifornia Academy of Sciences\n55 
 Music Concourse Dr, San Francisco, CA\n$15 General; $12 Members\nBUY 
 TICKETS\nSoundwave ((7)) Biennial returns to celebrate summer nights at the 
 California Academy of Sciences. We have invited artists to activate various 
 locations in the Academy with performances and installations to reinterpret 
 the rapidly shifting cityscape of San Francisco. Yagiz Mungan will showcase 
 a virtual rendering of the city that participants can both navigate and 
 play as an instrument. Using partially immersed VR headsets, Jason Marsh 
 takes audiences through data architectures built by inhabitants of the city 
 and into a new realm. Christopher Willits will be performing new ambient 
 electronic work created with guitar and voice using an 8-channel 
 dimensional audio system in the Piazza.\n 
 https://www.indybay.org/newsitems/2016/06/27/18788189.php
SUMMARY:Soundwave NightLife: Subliminal Cities
LOCATION:California Academy of Sciences
URL:https://www.indybay.org/newsitems/2016/06/27/18788189.php
DTSTART:20160722T010000Z
DTEND:20160722T050000Z
END:VEVENT
END:VCALENDAR
