BEGIN:VCALENDAR
VERSION:2.0
X-WR-CALNAME:www.indybay.org
PRODID:-//indybay/ical// v1.0//EN
BEGIN:VEVENT
UID:Indybay-18788079
SEQUENCE:18917865
CREATED:20160625T165200Z
DESCRIPTION:The last Sunday of every month attendees of the OO GA will get together a 
 little earlier than usual, at 3 PM to share some food with each other and 
 the community.  There should be a table and utensils/plates courtesy of the 
 Kitchen Committee (such at he is), so just bring a nosh to share, or just 
 bring yourself.\n\nThe Occupy Oakland General Assembly meets every Sunday 
 at 4 PM at Oscar Grant Plaza amphitheater at 14th Street & Broadway, often 
 on the steps of City Hall. If it is raining (as in RAINING, not just 
 misting) at 4:00 PM we meet in the basement of the Omni Collective, 4799 
 Shattuck Ave., Oakland.\n 
 https://www.indybay.org/newsitems/2016/06/25/18788079.php
SUMMARY:Potluck before Occupy Oakland General Assembly
LOCATION:Oscar Grant Plaza amphitheater\n14th & Broadway, Oakland
URL:https://www.indybay.org/newsitems/2016/06/25/18788079.php
DTSTART:20160626T220000Z
DTEND:20160626T230000Z
END:VEVENT
END:VCALENDAR
