BEGIN:VCALENDAR
VERSION:2.0
X-WR-CALNAME:www.indybay.org
PRODID:-//indybay/ical// v1.0//EN
BEGIN:VEVENT
UID:Indybay-18787993
SEQUENCE:18917742
CREATED:20160624T122100Z
DESCRIPTION:Join the ANSWER Coalition at PRIDE this weekend\nJune 26, 2016 at 11:30am - 
 2:30pm \nFree Chelsea Manning!\nSolidarity with Orlando! No to Homophobia, 
 Racism, Sexism and Islamophobia!\nJoin us in the Chelsea Manning Contingent 
 (#104)\nMeet at 11:30 on Spear between Howard and Folsom\n\nThe massacre of 
 49 LGBTQ people at the Pulse nightclub in Orlando continues to weigh heavy 
 on the hearts and minds of many people across the country. The current 
 climate of hatemongering and racist, bigoted propaganda whipped up by 
 capitalist politicians set the stage for this terrible tragedy. The answer 
 to such tragedy and homophobic violence is the coming together and 
 organizing of the LGBTQ community and everyone who stands in solidarity 
 with struggle for full equality.\n\nThe very first Pride marches were 
 established as a recognition and as a celebration of that struggle for 
 equality and against bigotry. Since those first marches, LGBTQ people have 
 won important victories through organization, mobilization and fierce 
 struggle at times. But the system we live in allows right wing forces to 
 continually mount attacks on oppressed communities, like the hundreds of 
 legislative attempts to deny LGTBQ people equality over the last 
 years.\n\nJoin the ANSWER Coalition and march for our heroic WikiLeaks 
 whistle-blower Chelsea Manning and show your support for Chelsea, 
 whistle-blowers, and government transparency. Chelsea is currently serving 
 an outrageous 35-year sentence in federal prison for the “crime” of 
 exposing U.S. war crimes. Meanwhile, the real criminals—Bush, Cheney, 
 Rumsfeld, Rice, etc.—live in wealth and luxury.\nContingent organized by 
 the Chelsea Manning Support Network and Courage to Resist.\nCONTACT\nANSWER 
 Coalition · answer@answersf.org · 415-821-6545 
 \nhttp://www.answercoalition.org/join_answer_in_the_chelsea_manning_contingent_at_pride\n 
 https://www.indybay.org/newsitems/2016/06/24/18787993.php
SUMMARY:Join Chelsea Manning Contingent #104 for SF PRIDE Parade
LOCATION:Meet  on Spear between Howard and Folsom, San Francisco
URL:https://www.indybay.org/newsitems/2016/06/24/18787993.php
DTSTART:20160626T183000Z
DTEND:20160626T213000Z
END:VEVENT
END:VCALENDAR
