BEGIN:VCALENDAR
VERSION:2.0
X-WR-CALNAME:www.indybay.org
PRODID:-//indybay/ical// v1.0//EN
BEGIN:VEVENT
UID:Indybay-18787914
SEQUENCE:18917636
CREATED:20160623T030800Z
DESCRIPTION:San Francisco Forum: US Threat to Latin American Independence\nJune 26, 
 2016 at 4pm - 7pm \nOn the 7th anniversary of the U.S. backed coup in 
 Honduras:\nYou are invited to a forum on the U.S. Government's Threat to 
 Latin American Independence.\nFeaturing speakers: \nHonduras: Porfirio 
 Quintano and Marleni Quintano\nBrazil: Toya Fernandes\nVenezuela: Teri 
 Mattson, just returned from delegation there, Alice Loaiza on Colombian 
 intervention in Venezuela\n\n$3-$5 Donation suggested, no one turned away 
 for lack of funds\nEndorsed by: A.N.S.W.E.R. Coalition Bay Area, Committee 
 in Solidarity with the People of El Salvador, Cuba and Venezuela Solidarity 
 Committee, FMLN-No.Cal, Hondureños en Resistencia, International Action 
 Center-BayArea, Marcha Patriótica - Capítulo California, Party for 
 Socialism and Liberation - PSL, School of the Americas Watch-SF, Task Force 
 on the Americas, Workers World Party - Bay 
 Area\nhttp://www.answercoalition.org/sf_us_latin_america\n 
 https://www.indybay.org/newsitems/2016/06/22/18787914.php
SUMMARY:Honduras & the US Gov Threat to Latin America
LOCATION:2969 Mission St., San Francisco (corner 26th St.)
URL:https://www.indybay.org/newsitems/2016/06/22/18787914.php
DTSTART:20160626T230000Z
DTEND:20160627T020000Z
END:VEVENT
END:VCALENDAR
