BEGIN:VCALENDAR
VERSION:2.0
X-WR-CALNAME:www.indybay.org
PRODID:-//indybay/ical// v1.0//EN
BEGIN:VEVENT
UID:Indybay-18787603
SEQUENCE:18917132
CREATED:20160616T024900Z
DESCRIPTION:The San Francisco Municipal Transportation Agency (SFMTA) continues its 
 nonstop propaganda and actual war on seniors, low income and disabled by 
 keeping on their books a plan to cut the 33 Ashbury MUNI bus to San 
 Francisco General Hospital. Come this coming Monday, June 20, 2016, at 6:00 
 p.m. at the Mission Cultural Center, Mission Street (between 24 and 25th 
 Sts) to protest these drastic cuts.\n\nFor letters from Barbara Garcia, 
 Director of Health at the Department of Public Health and the Coalition for 
 San Francisco Neighborhoods, 
 see:\nhttps://www.indybay.org/newsitems/2016/06/15/18787594.php\n\nALSO 
 PROTEST the elimination of bus stops on Van Ness at California, Geary and 
 O'Farrell, urgently needed by seniors and disabled people at all times, and 
 for the Geary and O'Farrell stops, to transfer to/from the 38 Geary to get 
 to medical appointments in the Union Square medical building area (450 
 Sutter, 490 Post, etc).  \n\nALL OF THESE MEETINGS HAVE A PUBLIC COMMENT 
 TIME if you do not see your item on the agenda.\n\nTHERE IS NO EXCUSE FOR 
 ELIMINATING BUS STOPS ON VAN NESS OR THE 33 ASHBURY LINE.  This is all a 
 gentrification scheme.  Remind the SFMTA that it is LABOR THAT CREATES ALL 
 WEALTH and without our labor, we have no city.  Our goal must be to make 
 cars a luxury in our crowded city, and to that end, we must save the 33 
 Ashbury Line and all bus stops.\n\nSee also 
 https://www.sfmta.com/news/press-releases/statement-supervisor-campos-sfmta-re-mission-street-improvement-project-update\nhttps://www.sfmta.com/about-sfmta/blog/sfmta-public-meetings-june-13-27\n 
 https://www.indybay.org/newsitems/2016/06/15/18787603.php
SUMMARY:Keep the Ashbury 33 bus running to SFGH; Save Van Ness bus stops
LOCATION: Mission Cultural Center, Mission Street (between 23rd-24th Sts) 24th St 
 BART station.  Buses: 12, 14, 48, 49, 67
URL:https://www.indybay.org/newsitems/2016/06/15/18787603.php
DTSTART:20160621T010000Z
DTEND:20160621T050000Z
END:VEVENT
END:VCALENDAR
