BEGIN:VCALENDAR
VERSION:2.0
X-WR-CALNAME:www.indybay.org
PRODID:-//indybay/ical// v1.0//EN
BEGIN:VEVENT
UID:Indybay-18787542
SEQUENCE:18917275
CREATED:20160614T185100Z
DESCRIPTION:Please join us at the KPFA SUMMER CRAFTS FAIR on JUNE 18th & 19th - from 
 10am to 5pm at The Craneway Pavilion on the Richmond Waterfront for the Bay 
 Area’s premier crafts fair benefitting KPFA 94.1 FM Public Radio. 
 \n\nFREE admission, FREE parking and FREE shuttle to/from Richmond BART. 
 \nOver 170 artists will be present to display and sell their hand-made, 
 one-of-a-kind, and limited edition goods in a wide variety of media. 
 Introducing Quilts & Quilters – an exhibit within the fair plus live 
 music in Food Zone.  \nVisit www.kpfa.org/craftsfair/summer for more 
 information.\nFacebook: https://www.facebook.com/KPFACraftsFair\n\n 
 https://www.indybay.org/newsitems/2016/06/14/18787542.php
SUMMARY:KPFA Summer Crafts Fair Weekend in Richmond
LOCATION:Craneway Pavilion, Richmond on the Waterfront — 1414 Harbour Way South, 
 Richmond, CA 94804.  www.craneway.com
URL:https://www.indybay.org/newsitems/2016/06/14/18787542.php
DTSTART:20160619T170000Z
DTEND:20160620T000000Z
END:VEVENT
END:VCALENDAR
