BEGIN:VCALENDAR
VERSION:2.0
X-WR-CALNAME:www.indybay.org
PRODID:-//indybay/ical// v1.0//EN
BEGIN:VEVENT
UID:Indybay-18786461
SEQUENCE:18915156
CREATED:20160516T193400Z
DESCRIPTION:This market is based on a gift-economy and thinks capitalism is terrible. 
 Let's share what we got and give freely. Bring food to share. Bring your 
 special items that you don't use but can't throw away (ex. clothes, toys, 
 art supplies, instruments, books and zines...your free box). Bring your 
 special talents to offer people (ex. haircuts, message, reiki...). Come and 
 take what you can use and say thanks! We will have folks to check in with 
 as you arrive. First come first served, space may be limited. If you bring 
 things, you are expected to take away whatever is left at the end of the 
 market.\n\n@@@@@@@@@@@@@@@@@@@@@@@@@@@\n\nSubRosa is a collectively run 
 anarchist community space, a place to meet others and challenge our 
 assumptions and act on our passions.  We strive to create a vibrant 
 environment for events, classes, meetings, organizing, performance, art, 
 studying and more.  SubRosa also offers radical literature for sale, and 
 houses the Anarchist Lending Library. We welcome folks to join us in 
 fostering an environment free from coercion, sexism, homophobia, racism, 
 and other hierarchies. http://www.subrosaproject.org/ and 
 https://www.facebook.com/subrosaproject\n 
 https://www.indybay.org/newsitems/2016/05/16/18786461.php
SUMMARY:Really Really Free Market: No money. No trades. Everything is free.
LOCATION:at SubRosa, 703 Pacific Ave. (downtown Santa Cruz)
URL:https://www.indybay.org/newsitems/2016/05/16/18786461.php
DTSTART:20160521T190000Z
DTEND:20160521T220000Z
END:VEVENT
END:VCALENDAR
