BEGIN:VCALENDAR
VERSION:2.0
X-WR-CALNAME:www.indybay.org
PRODID:-//indybay/ical// v1.0//EN
BEGIN:VEVENT
UID:Indybay-18786292
SEQUENCE:18914886
CREATED:20160511T175700Z
DESCRIPTION:May 11, 2016 @ 5:30 pm – 9:00 pm\nWHERE: San Francisco City Hall, Rm 
 400\n1 Dr Carlton B Goodlett Pl\nSan Francisco, CA 94102\n\n\nWed at 5:30 
 police commission meeting. Everyone come out. #FireChiefSuhr #BlueRibbon\n 
 https://www.indybay.org/newsitems/2016/05/11/18786292.php
SUMMARY:San Francisco Police Commission Meeting – Fire Chief Suhr!
LOCATION:Wed at 5:30 police commission meeting. Everyone come out. #FireChiefSuhr 
 #BlueRibbon
URL:https://www.indybay.org/newsitems/2016/05/11/18786292.php
DTSTART:20160512T003000Z
DTEND:20160512T040000Z
END:VEVENT
END:VCALENDAR
