BEGIN:VCALENDAR
VERSION:2.0
X-WR-CALNAME:www.indybay.org
PRODID:-//indybay/ical// v1.0//EN
BEGIN:VEVENT
UID:Indybay-18786243
SEQUENCE:18914936
CREATED:20160509T214600Z
DESCRIPTION:Seven years in the making, UNITY is a new documentary that explores 
 humanity’s hopeful transformation from living-by-killing into 
 living-by-loving. It is a unique film about compassion for all beings. 
 Writer/Director Shaun Monson, collaborating with an astounding cast of 100 
 celebrity narrators (never before gathered in the history of filmmaking), 
 presents a message of love, tragedy and 
 hope.\nhttps://youtu.be/csgQqiNSjaM\nThis is a FREE event, please RSVP 
 at\nhttp://www.eventbrite.com/e/unity-tickets-25253566096\n Scheduled as 
 followed:\n2:00 pm - 2:15 pm Introduction\n2:15 pm - 3:55 pm Movie\n3:55 pm 
 - 4:45 pm Q&A\n4:45 pm - 5:00 pm Raffles\n 
 https://www.indybay.org/newsitems/2016/05/09/18786243.php
SUMMARY:Unity Screening
LOCATION:The San Francisco Public Library, 100 Larkin St, Koret Auditorium, Lower 
 Level
URL:https://www.indybay.org/newsitems/2016/05/09/18786243.php
DTSTART:20160625T210000Z
DTEND:20160626T000000Z
END:VEVENT
END:VCALENDAR
