BEGIN:VCALENDAR
VERSION:2.0
X-WR-CALNAME:www.indybay.org
PRODID:-//indybay/ical// v1.0//EN
BEGIN:VEVENT
UID:Indybay-18786160
SEQUENCE:18914691
CREATED:20160507T194300Z
DESCRIPTION:Occupy Wall Street?  Heck, no! Occupy land values!\n\nCome along on this 
 free walking tour surveying San Francisco social movement history, and find 
 out how to occupy land values.\n\nThe goofy Left and the truculent Right 
 agree that any topic but land values is fair . . . or at least suitable for 
 disputation with each other. The Left careens away from the topic of land 
 values because, "The market is mostly bad, and people shouldn't have to pay 
 market rent to meanie landlords." The Right spasms biliously at the mention 
 of land values because, "This country was founded on private property in 
 land--after all, Geronimo died long ago, and slavery was just private 
 property in flesh, which is wrong now that it's over."\n\nIf you've a 
 curiosity in a topic both Sanders and Trump won't broach, namely occupying 
 land values, and you want to save San Francisco Real Estate, this walk is 
 for you. Guaranteed to stimulate your juices or we'll buy you lunch 
 afterwards!\n https://www.indybay.org/newsitems/2016/05/07/18786160.php
SUMMARY:Save San Francisco Real Estate walking tour
LOCATION:American Youth Hostel\n312 Mason St.\nSF, CA
URL:https://www.indybay.org/newsitems/2016/05/07/18786160.php
DTSTART:20160508T163000Z
DTEND:20160508T190000Z
END:VEVENT
END:VCALENDAR
