BEGIN:VCALENDAR
VERSION:2.0
X-WR-CALNAME:www.indybay.org
PRODID:-//indybay/ical// v1.0//EN
BEGIN:VEVENT
UID:Indybay-18786115
SEQUENCE:18914625
CREATED:20160506T183200Z
DESCRIPTION:Hear about San Francisco Ballot Propositions, particularly Prop. B, Parks 
 Set Aside Charter Amendment, and Prop. C, Affordable Housing Charter 
 Amendment.  In addition, there will be a discussion of the Democratic 
 Central Committee and the role it plays in endorsing candidates and 
 propositions.  Bay Area-wide Prop. AA, Wetlands Restoration paid by a 
 parcel tax, is also important.\n 
 https://www.indybay.org/newsitems/2016/05/06/18786115.php
SUMMARY:The June Ballot
LOCATION:Park Library, 1833 Page/Cole, San Francisco
URL:https://www.indybay.org/newsitems/2016/05/06/18786115.php
DTSTART:20160513T020000Z
DTEND:20160513T040000Z
END:VEVENT
END:VCALENDAR
