BEGIN:VCALENDAR
VERSION:2.0
X-WR-CALNAME:www.indybay.org
PRODID:-//indybay/ical// v1.0//EN
BEGIN:VEVENT
UID:Indybay-18785931
SEQUENCE:18914329
CREATED:20160502T201200Z
DESCRIPTION:The Frisco5 are in day 12 of a full hunger strike  demanding the firing of 
 Police Chief Gregory Suhr.   You are invited to march with them at 1 pm on 
 Tuesday May 3 to City Hall to speak with the Mayor of San 
 Francisco.\n\nhttps://www.facebook.com/28002955/videos/10100373246503091\n\nhttps://www.facebook.com/28002955/videos/10100373249886311 
 \n\nhttps://twitter.com/ShaunKing/status/727212478006976517\n 
 https://www.indybay.org/newsitems/2016/05/02/18785931.php
SUMMARY:#Frisco5 #hungerforJusticeSF strikers march to City Hall to meet the mayor
LOCATION:630 Valencia, San Francisco Mission District Police Station gather\nMarch 
 to City Hall
URL:https://www.indybay.org/newsitems/2016/05/02/18785931.php
DTSTART:20160503T193000Z
DTEND:20160503T213000Z
END:VEVENT
END:VCALENDAR
