BEGIN:VCALENDAR
VERSION:2.0
X-WR-CALNAME:www.indybay.org
PRODID:-//indybay/ical// v1.0//EN
BEGIN:VEVENT
UID:Indybay-18785886
SEQUENCE:18914266
CREATED:20160502T032400Z
DESCRIPTION:\n\nFilm evenings begin with optional potluck refreshments & social half 
 hour at 7:00 pm, followed by the film at 7:30 pm, followed by optional 
 discussion after the film.\n\n\nOur Film Series for May is on the State 
 Oppression of Health\n\n\nCANCER:  THE FORBIDDEN CURES\nby  Massimo 
 Mazzucco\n\n\nFor a description of this film, see the website shown 
 below.\n\n\nHumanist Hall is wheelchair accessible around the corner at  
 411  28th  Street\n\n\n$5 donations are expected.\n\n\n\n\n 
 https://www.indybay.org/newsitems/2016/05/01/18785886.php
SUMMARY:Cancer: The Forbidden Cures
LOCATION:Humanist Hall\n390  27th  Street\nuptown Oakland, between Telegraph and 
 Broadway\nhttp://www.HumanistHall.org\n
URL:https://www.indybay.org/newsitems/2016/05/01/18785886.php
DTSTART:20160519T023000Z
DTEND:20160519T043000Z
END:VEVENT
END:VCALENDAR
