BEGIN:VCALENDAR
VERSION:2.0
X-WR-CALNAME:www.indybay.org
PRODID:-//indybay/ical// v1.0//EN
BEGIN:VEVENT
UID:Indybay-18785666
SEQUENCE:18913935
CREATED:20160427T171800Z
DESCRIPTION:Join us and Friends of Five Creeks for an evening of short documentaries 
 that highlight how individuals have made an incredible difference in their 
 communities.  \n\nFrom Ron Finley, planting an artistic, urban organic 
 garden in South Central LA’s food desert, to a few women mobilizing 
 hundreds to protect the mission blue butterfly by saving San Bruno 
 Mountain, to a Volunteer Firefighter saving a pair of shoes in a house 
 fire.\n\nIn addition, Friends of Five Creeks will share their 20-year 
 history right here in Berkeley, Albany and El Cerrito, as they restored one 
 creek after another.  Discover what it took to build their group of Weed 
 Warriors, adopt a half dozen parks, produce a speaker series on local 
 environmental issues and positive solutions, and build an environmental 
 coalition of organizations to protect the bay. Potluck at 6:30, program at 
 7:00.\n\nFor more info: info@transitionberkeley.com    \nwebsite: 
 http://www.transitionberkeley.com\n\nThis event is co-sponsored by 
 Transition Berkeley, Friends of Five Creeks, and BFUU's Social Justice 
 Ctee.\nSuggested donation $5-$20. No one turned away. \nWheelchair 
 accessible.\n\nFor occasional email notices of peace/eco/social justice 
 alerts and related events at BFUU, send any email 
 to:\nbfuusjev-subscribe@lists.riseup.net\n\nFor weekly notices of BFUU 
 services etc. go to:\nwww.bfuu.org/signup.html\n 
 https://www.indybay.org/newsitems/2016/04/27/18785666.php
SUMMARY:Meet the Changemakers - You and Me!
LOCATION:Berkeley Fellowship of Unitarian Universalists’ Hall \n1924 Cedar 
 (@Bonita), Berkeley   www.bfuu.org\n
URL:https://www.indybay.org/newsitems/2016/04/27/18785666.php
DTSTART:20160506T013000Z
DTEND:20160506T040000Z
END:VEVENT
END:VCALENDAR
