BEGIN:VCALENDAR
VERSION:2.0
X-WR-CALNAME:www.indybay.org
PRODID:-//indybay/ical// v1.0//EN
BEGIN:VEVENT
UID:Indybay-18785520
SEQUENCE:18913721
CREATED:20160423T160200Z
DESCRIPTION:Monday, April 25\n7 pm • SEIU Union Hall, Santa Cruz\nWEconomics: 
 Italy\n(Melissa Young & Mark Dworkin, 2015, 19 min, Italy, USA)\nA region 
 in northern Italy provides a glimpse of how cooperatives can play a central 
 role in the economy, including social services, and help create a more 
 equitable society.\nRemembering Salt\n(Ron Verzuh, 2015, 19 min, 
 Canada)\nRecalling the history of the blacklisted film in the context of a 
 screening in a small Canadian town where Salt was shown 60 years 
 earlier.\nJoe Hill’s Secret Canadian Hideout\n(Ron Verzuh, 2014, 8 min, 
 Canada)\nDid Wobbly protest singer Joe Hill hide out at the Rossland 
 Miners’ Union Hall back in 1912? Is the spirit of the “Man Who Never 
 Died” alive and well in this old British Columbia mining town?\nDelano 
 Manongs\n(Marissa Aroy, 2014, 30 min, USA)\nThe story of the Filipino 
 farmworkers who precipitated the Great Grape Strike in 1965 and joined 
 forces with other workers to create the United Farm Workers.\n 
 https://www.indybay.org/newsitems/2016/04/23/18785520.php
SUMMARY:Reel Work labor film festival 2016 day #5 Theme : Weconomics
LOCATION:Monday, April 25 7 pm • SEIU Union Hall, Santa Cruz
URL:https://www.indybay.org/newsitems/2016/04/23/18785520.php
DTSTART:20160426T020000Z
DTEND:20160426T120000Z
END:VEVENT
END:VCALENDAR
