BEGIN:VCALENDAR
VERSION:2.0
X-WR-CALNAME:www.indybay.org
PRODID:-//indybay/ical// v1.0//EN
BEGIN:VEVENT
UID:Indybay-18785188
SEQUENCE:18914534
CREATED:20160412T214800Z
DESCRIPTION:Jeremy Scahill, author of "Blackwater" and "Dirty Wars,"  and one of the 
 three founders of "The Intercept" - great online invest-igative magazine - 
 will discuss "The Assassination Complex: Inside the Government's Secret 
 Drone Warfare Program"\n\nHe will also discuss The Intercept, where he 
 works with Laura Poitras, Glenn Greenwald and other ace reporters.   KPFA's 
 host for this event will be Brian Edwards-Tiekert. \n\n--\n\nMonday, May 9, 
 7:30 PM\nFirst Congregational Church , 2345 Channing Way, Berkeley\nAdvance 
 tickets: $12 : brownpapertickets.com :: T: 800-838-3006  or Books, Inc, 
 Pegasus (3 sites), Moe’s, Walden Pond Bookstore, Diesel a Bookstore, Mrs. 
 Dalloway’s \nS.F. – Modern Times.\n$15 door\n\nThe Assassination 
 Complex reveals stunning details of the government’s secretive and 
 horrific drone warfare program, based on documents supplied by a 
 confidential source in the intelligence community.\n\nDrones are a tool, 
 not a policy. The policy is assassination. Proponents of drone warfare, 
 however, prefer the term “targeted killings.” But drone strikes 
 Frequently kill people who are not the intended target. Unless it can be 
 proven otherwise, the government refers to these unintended victims as 
 “enemies killed in action.” These deaths – all too often of women and 
 children – dwarf the number of actual combatants who have been murdered 
 by drones. They have generated among foreign populations intense anger 
 toward the U.S., and they have become a recruiting tool for 
 jihadists.\n\nJeremy Scahill and his colleagues on The Intercept obtained a 
 cache of classified slides from a source within the intelligence community 
 that provides a startling window onto the Inner workings of the U.S. 
 military’s drone operations. These documents make it possible to begin 
 the necessary, long-overdue debate about this 14-year campaign of targeted 
 killing that has been deliberately hidden from the public, and exactly why 
 it is conducted so ruinously in so many places.\n\nJeremy Scahill, one of 
 the three founding editors of The Intercept, is an investigative reporter, 
 war correspondent, author of the internationally bestselling books Dirty 
 Wars and Blackwater, and twice a recipient of the George Pol Award.  He 
 will also discuss The Intercept, the investigative web magazine founded by 
 Glenn Greenwald, Laura Poitras, and Jeremy Scahill, a publication of First 
 Look Media.\n\nBrian Edwards-Tiekert, host of this one-time event, is the 
 daily host of UpFront, KPFA’s popular hour-long news magazine with a 
 strong focus on state and local issues.\n\nKPFA benefit\n 
 https://www.indybay.org/newsitems/2016/04/12/18785188.php
SUMMARY:Jeremy Scahill: "The Assassination Complex"
LOCATION:First Congregational Church of Berkeley  2345 Channing Way,\nBerkeley
URL:https://www.indybay.org/newsitems/2016/04/12/18785188.php
DTSTART:20160510T023000Z
DTEND:20160510T043000Z
END:VEVENT
END:VCALENDAR
