BEGIN:VCALENDAR
VERSION:2.0
X-WR-CALNAME:www.indybay.org
PRODID:-//indybay/ical// v1.0//EN
BEGIN:VEVENT
UID:Indybay-18784999
SEQUENCE:18912842
CREATED:20160408T204800Z
DESCRIPTION:Celebrate a Step towards Economic Justice\nWinning this in Berkeley 
 strengthens the fight of working families throughout the bay.\n\nJoin 
 Berkeley for Working Families as they turn in 150% of the required 
 signatures to put an initiative on the November Berkeley ballot that 
 will:\n\n- Raise Berkeley's minimum wage to $15 by October 2017\n\n- Raise 
 it further each year by 3% + inflation till it gets in sync with Berkeley's 
 official "Living Wage" – currently $16.37\n\n- Bring sick leave up to the 
 standards set by Oakland, Emeryville and SF\n\nThere is a deepening crisis 
 in Berkeley and the Bay Area. Housing costs are skyrocketing and wages are 
 just too low. Families work and work and still can't make ends meet. Most 
 new jobs are paying the lowest possible wages. The standards are just too 
 low.\n\nWorking families need relief now.\n 
 https://www.indybay.org/newsitems/2016/04/08/18784999.php
SUMMARY:Berkeley Fight for $15 Victory Celebration!
LOCATION:Berkeley City Hall Steps\n2180 Milvia St, Berkeley, CA 94704, USA
URL:https://www.indybay.org/newsitems/2016/04/08/18784999.php
DTSTART:20160418T190000Z
DTEND:20160418T200000Z
END:VEVENT
END:VCALENDAR
