BEGIN:VCALENDAR
VERSION:2.0
X-WR-CALNAME:www.indybay.org
PRODID:-//indybay/ical// v1.0//EN
BEGIN:VEVENT
UID:Indybay-18784912
SEQUENCE:18912731
CREATED:20160406T161400Z
DESCRIPTION:Thank you to everyone who came out to our hugely successful canvassing 
 kickoff last Saturday! We had nearly fifty people and gathered hundreds of 
 signatures. Come out this Sunday for our next canvass to collect signatures 
 for our three ballot initiatives.\n\nWe will be gathering signatures for 
 our three endorsed ballot measures for 2016: the Protect Oakland Tenants 
 Initiative, sponsored by Oakland Tenants Union and the Citywide Development 
 Network, the charter amendment to create a police commission sponsored by 
 the Coalition for Police Accountability, and the measure to establish a $20 
 minimum wage by 2020 and enforce fair scheduling regulations from the 
 Oakland Livable Wage Assembly.\n\n \n 
 https://www.indybay.org/newsitems/2016/04/06/18784912.php
SUMMARY:Oakland Justice Coalition Canvass & Signature Gathering
LOCATION:349 Mandela Parkway, Oakland, CA
URL:https://www.indybay.org/newsitems/2016/04/06/18784912.php
DTSTART:20160410T210000Z
DTEND:20160411T000000Z
END:VEVENT
END:VCALENDAR
