BEGIN:VCALENDAR
VERSION:2.0
X-WR-CALNAME:www.indybay.org
PRODID:-//indybay/ical// v1.0//EN
BEGIN:VEVENT
UID:Indybay-18784905
SEQUENCE:18912711
CREATED:20160406T031000Z
DESCRIPTION:The Body Political is a subversive artistic space created to explore 
 personal stories about our bodies told through performance art. This show 
 is a conversation. A conversation about our assumptions of what the body is 
 and isn’t capable of and why. A conversation about the ways our bodies 
 are controlled, denied, and marginalized through social and political 
 institutions. A conversation about how social control of the body is used 
 to assert authority and maintain existing systems of power.\n\nJoin us for 
 an evening of burlesque, drag, music, spoken word, and performance art, 
 that confront social myths about the body through personal stories of 
 resistance and reclamation. \n\nPerformances By:\nEmily Yates\nJelly Oma 
 Belly\nJet Noir\nLady Monster\nMary Vice\nSiren Sapphire\nJuicy D. 
 Light\nCandy Apples\nRandy Puck\n\nHosted by Magnoliah Black\n\nProduced 
 by:\nTeam StarFox (Andi Stardust & Laika Fox)\n\nTickets: \n$15 general/ 
 $25 VIP\nhttp://thebodypolitical.bpt.me/\n 
 https://www.indybay.org/newsitems/2016/04/05/18784905.php
SUMMARY:The Body Political
LOCATION:Club BnB\n2120 Broadway\nOakland, CA
URL:https://www.indybay.org/newsitems/2016/04/05/18784905.php
DTSTART:20160430T030000Z
DTEND:20160430T053000Z
END:VEVENT
END:VCALENDAR
