BEGIN:VCALENDAR
VERSION:2.0
X-WR-CALNAME:www.indybay.org
PRODID:-//indybay/ical// v1.0//EN
BEGIN:VEVENT
UID:Indybay-18784842
SEQUENCE:18912626
CREATED:20160403T225200Z
DESCRIPTION:6:00 PM potluck- Please bring a vegetarian dish to share. \nEvery year on 
 April 15th, The Northern California War Tax Resistance/People's Life Fund 
 honors organizations who make the connection between our war taxes and the 
 violence and oppression our bloated military budget causes. The People's 
 Life Fund is an opportunity for all those who resist militarism. 
 Essentially, it is War Tax Redirection.\nThe Fund is part of Northern 
 California War Tax Resistance which is part of the national and worldwide 
 movement of resistance to taxes for war and repression. \nFurther info: 
 http;//www.nowartax.org or call 510-842-6124.\n\nThis event is sponsored by 
 the BFUU Social Justice Committee and the Northern California War Tax 
 Resistance/People's Life Fund. Urge you not to miss this special event as 
 one of finest events the SJC sponsors.\n\nSponsored by the BFUU Social 
 Justice Ctee\nSuggested donation $5-$20. No one turned away. \nWheelchair 
 accessible.\n\nPh:510-275-4272\n\nFor occasional email notices of 
 peace/eco/social justice alerts and related events at BFUU, send any email 
 to:\nbfuusjev-subscribe@lists.riseup.net\n\nFor weekly notices of BFUU 
 services etc. go to:\nwww.bfuu.org/signup.html\n\n 
 https://www.indybay.org/newsitems/2016/04/03/18784842.php
SUMMARY:People's Life Fund Award Ceremony
LOCATION:Berkeley Fellowship of Unitarian Universalists’ Hall \n1924 Cedar 
 (@Bonita), Berkeley   www.bfuu.org\n
URL:https://www.indybay.org/newsitems/2016/04/03/18784842.php
DTSTART:20160416T010000Z
DTEND:20160416T050000Z
END:VEVENT
END:VCALENDAR
