BEGIN:VCALENDAR
VERSION:2.0
X-WR-CALNAME:www.indybay.org
PRODID:-//indybay/ical// v1.0//EN
BEGIN:VEVENT
UID:Indybay-18784672
SEQUENCE:18912387
CREATED:20160330T182800Z
DESCRIPTION:Join us for an exciting and informative introductory exterior walking tour 
 of our eco-demonstration home and garden. Draw inspiration to reduce your 
 climate impact and climate change’s impact on you. We’ll present ideas 
 for do-it-yourself projects and explore such questions as: How can using 
 recycled cardboard boxes restore the soil in your yard and allow you to 
 grow a thriving, toxin-free garden? How can a roof filter air pollution, 
 help prevent flooding, and reduce the need for heating and air 
 conditioning? On this introductory exterior tour of the EcoHouse you will 
 see: a native raingarden; a constructed wetland; a laundry-to-landscape 
 greywater system; a living roof topped toolshed; a 1100 gallon rainwater 
 cistern; a food forest; and, more. We’ll give you an idea of what’s 
 possible for an urban home, and provide useful resources to help you take 
 the next steps. This tour is outdoors and does NOT include the interior of 
 the house. Tour starts promptly at 10am. Space is limited. Pre-registration 
 required. Register online via Brown Paper Tickets. 
 http://www.brownpapertickets.com/event/2525313\n 
 https://www.indybay.org/newsitems/2016/03/30/18784672.php
SUMMARY:June EcoHouse Tour: Climate Action and Adaptation
LOCATION:EcoHouse, 1305 Hopkins Street, Berkeley, CA, 94702
URL:https://www.indybay.org/newsitems/2016/03/30/18784672.php
DTSTART:20160605T170000Z
DTEND:20160605T190000Z
END:VEVENT
END:VCALENDAR
