BEGIN:VCALENDAR
VERSION:2.0
X-WR-CALNAME:www.indybay.org
PRODID:-//indybay/ical// v1.0//EN
BEGIN:VEVENT
UID:Indybay-18783863
SEQUENCE:18911105
CREATED:20160311T042600Z
DESCRIPTION:Waging Peace is a testament to the difference one person can make.  
 Hartsough's stories inspire, educate, and encourage readers to find ways to 
 work for a more just and peaceful world.  Inspired by the examples of 
 Mahatma Gandhi and Martin Luther Kind Jr, Hartsough has has spent his life 
 experimenting with the power of active nonviolence.  It is the story of one 
 man's effort to live as though we were all brothers and 
 sisters.\n\nTickets: $10 in advance, $15 at door; Free for students; Half 
 price for Peace Center members.\nAdvance tickets at www.ourpeacecenter.org 
 or call 925-933-7859.\n\nSponsored by Mt. Diablo Peace & Justice Center; 
 co-sponsored by Friendly Favors\n 
 https://www.indybay.org/newsitems/2016/03/10/18783863.php
SUMMARY:David Hartsough: Waging Peace
LOCATION:Mt. Diablo Unitarian Universalist Church, 55 Eckley Lane, Walnut Creek 
 94596
URL:https://www.indybay.org/newsitems/2016/03/10/18783863.php
DTSTART:20160411T020000Z
DTEND:20160411T040000Z
END:VEVENT
END:VCALENDAR
