BEGIN:VCALENDAR
VERSION:2.0
X-WR-CALNAME:www.indybay.org
PRODID:-//indybay/ical// v1.0//EN
BEGIN:VEVENT
UID:Indybay-18783662
SEQUENCE:18911144
CREATED:20160305T035800Z
DESCRIPTION:Lani Ka'ahumanu \nBook Reading & Signing\n"Skeletons in Our Family Closet: 
 Bisexual History, Family & Culture - One Woman's Journey from Housewife to 
 the Obama White House"\n\nLani Ka'ahumanu is often regarded as the 
 strategic political architect of the U.S. bisexual movement. Her journey 
 from a 1960's San Mateo housewife and Another Mother for Peace, to a 1970's 
 out of the closet lesbian feminist student at SFSU helping to found the 
 Women Studies Department took a spectacular public fall from grace in 1980 
 when she came out as bisexual. \nShe has a 40+ year career instigating and 
 mobilizing social justice actions, campaigns, street theater and cultural 
 events while challenging bisexual invisibility and ignorance within the 
 HIV/AIDS and health industries. She co-founded the first bisexual feminist 
 political action group BiPOL (1983), San Francisco Bay Area Bisexual 
 Network (1987) and BiNet USA (1987). She co-edited the ground breaking 
 anthology Bi Any Other Name: Bisexual People Speak Out, now celebrating its 
 25th edition.\n\n https://www.indybay.org/newsitems/2016/03/04/18783662.php
SUMMARY:Canceled: Lani Ka'ahumanu Book Reading & Signing: Skeletons in Our Family Closet: Bisexual History
LOCATION:The Diversity Center, 1117 Soquel Ave, Santa Cruz, California 95062
URL:https://www.indybay.org/newsitems/2016/03/04/18783662.php
DTSTART:20160313T030000Z
DTEND:20160313T030000Z
END:VEVENT
END:VCALENDAR
