BEGIN:VCALENDAR
VERSION:2.0
X-WR-CALNAME:www.indybay.org
PRODID:-//indybay/ical// v1.0//EN
BEGIN:VEVENT
UID:Indybay-18783505
SEQUENCE:18910589
CREATED:20160301T085900Z
DESCRIPTION:Monday March 7th at 7pm\n\nMeet at 14th and Broadway and take the streets 
 in solidarity with the three anti-racists who were stabbed in Anaheim when 
 confronting a KKK rally on February 27th.\n\nThe klansman that stabbed the 
 three comrades is reportedly from San Francisco.  He was later let go while 
 counter protesters are still held in jail.  This is unacceptable!  Let's 
 take a stand against the KKK and white supremacy in the Bay and 
 everywhere!\n\nThis is happening at the same time as riots and 
 demonstrations in the streets of Salt Lake City, Utah and Raleigh, North 
 Carolina in the wake of yet more police shootings of black youth.\n\nThis 
 is not a coincidence.  The cops and the klan go hand in hand.  The whole 
 damn system is guilty.\n\n#blacklivesmatter\nSolidarity with those who 
 fight back! \n https://www.indybay.org/newsitems/2016/03/01/18783505.php
SUMMARY:Solidarity with Anaheim!
LOCATION:14th and Broadway\nOakland, CA
URL:https://www.indybay.org/newsitems/2016/03/01/18783505.php
DTSTART:20160308T030000Z
DTEND:20160308T030000Z
END:VEVENT
END:VCALENDAR
