BEGIN:VCALENDAR
VERSION:2.0
X-WR-CALNAME:www.indybay.org
PRODID:-//indybay/ical// v1.0//EN
BEGIN:VEVENT
UID:Indybay-18783191
SEQUENCE:18910354
CREATED:20160222T043500Z
DESCRIPTION:Public Event  • All Welcome\nEvento Público • Todos Bienvenidos\n\nWar 
 in Syria: Ending or Expanding?\n\nFriday, Feb. 26, 7pm\n2969 Mission St., 
 SF\n\nJoin us for an educational forum on Syria covering the following 
 topics:\n\nThe real causes of the war in Syria;\nThe  impact of the war on 
 the people of Syria and the entire region;\nThe role of the U.S. and its 
 allies and how has their intervention opened for the way for the rise of 
 the Islamic State (ISIS);\nThe role of Russia and Iran in the war, 
 and\nSyria and the 2016 U.S. Presidential election.\n\n2969 Mission St., 
 between 25th and 26th Sts.\n\nNear 24th St. BART, #14, 49 MUNI\n\n$3 - $10 
 donation requested, no one turned away for lack of funds.\n\nRefreshments 
 served. Wheelchair accessible. More info: 415-821-6171 or 
 http://www.PSLweb.org.\nVisit http://www.PSLweb.org to read daily news and 
 anaylsis from a Marxist perspective.\nVisit http://www.PSLweb.org to 
 purchase our other publications.\n\n\nForo Público del PSL\n\nLa Guerra en 
 Siria ¿Habrá fin o expansión?\n\nviernes, 19 de febrero, 7pm\n2969 
 Mission St., San Francisco\n\nÚnete para un foro educativo sobre Siria que 
 cubre los temas siguientes:\n\nLas causas verdaderas de la guerra en 
 Siria\nEl impacto de la guerra al pueblo de Siria y toda la región\nEl 
 papel de los EE.UU. y sus aliados y cómo su intervención abrió el camino 
 para el surgimiento del Estado Islámico\nEl papel de Rusia e Irán en la 
 guerra\nSiria y la elección presidencial de EE.UU. en 2016\n\n2969 Calle 
 Mission esquiná de la calle 25 y 26, acerca de BART/24 St., MUNI #14, 
 49.\n\nSugerimos una donación de $3 a $10, todos bienvenidos, con o sin 
 fondos.\n\nHabrá antojitos.\n\nPara mayor información llame al PSL, en 
 415-821-6171 o www.PSLweb.org.\n\nVisite nuestra página web: 
 http://www.pslweb.org del día y análisis desde un punto de vista 
 Marxista. \nVaya para http://www.pslweb.org leer selecciones actuales y 
 publicaciones anteriores.\n 
 https://www.indybay.org/newsitems/2016/02/21/18783191.php
SUMMARY:War in Syria: Ending or Expanding?/La Guerra en Siria ¿Habrá fin o expansión?
LOCATION:2969 Mission St., between 25th and 26th Sts.\nNear 24th St. BART, #14, 49 
 MUNI
URL:https://www.indybay.org/newsitems/2016/02/21/18783191.php
DTSTART:20160227T030000Z
DTEND:20160227T050000Z
END:VEVENT
END:VCALENDAR
