BEGIN:VCALENDAR
VERSION:2.0
X-WR-CALNAME:www.indybay.org
PRODID:-//indybay/ical// v1.0//EN
BEGIN:VEVENT
UID:Indybay-18782490
SEQUENCE:18909157
CREATED:20160201T220200Z
DESCRIPTION:See and Make Art Family Workshops\n\nMeet in the Madeline F. Whittlesey 
 Room in the Richmond Public Library. Start with a story, continue with an 
 art-making project, and then finish with a guided tour of the galleries at 
 the Art Center. Free and open to kids of all ages!\n\nKids must be 
 accompanied by an adult. For groups of 6 or more kids, please call us in 
 advance at 510.620.6772. Otherwise, no registration is required.\n\nThis 
 workshop takes place on the last Saturday of every month\n 
 https://www.indybay.org/newsitems/2016/02/01/18782490.php
SUMMARY:See and Make Art Family Workshop
LOCATION:Richmond Public Library\n325 Civic Center Plaza\nRichmond, Ca 94804
URL:https://www.indybay.org/newsitems/2016/02/01/18782490.php
DTSTART:20160227T210000Z
DTEND:20160227T223000Z
END:VEVENT
END:VCALENDAR
