BEGIN:VCALENDAR
VERSION:2.0
X-WR-CALNAME:www.indybay.org
PRODID:-//indybay/ical// v1.0//EN
BEGIN:VEVENT
UID:Indybay-18782451
SEQUENCE:18908997
CREATED:20160131T222600Z
DESCRIPTION:This 2015 documentary covers 50-years of confronting police abuse in 
 Portland, OR, where a history of systemic racism speaks to the urgent need 
 to end police terror now. After the film, strategize on how to build a 
 movement that fights for community control of the police, as well as for 
 jobs, education and an end to bigotry. \n\nA Southern Supper is served at 
 6:00pm for an $8.50 donation. Door donation $2.00. Sliding Scale and work 
 exchange available. For onsite childcare, call two days in advance.\n\n 
 https://www.indybay.org/newsitems/2016/01/31/18782451.php
SUMMARY:Black History Month Film "Arresting Power: Resisting Police Abuse"
LOCATION:New Valencia Hall. 747 Polk St., SF\nat Ellis, 7 blocks from Civic Center 
 BART, on or near Muni bus lines 38, 31, 47 & 49
URL:https://www.indybay.org/newsitems/2016/01/31/18782451.php
DTSTART:20160228T030000Z
DTEND:20160228T053000Z
END:VEVENT
END:VCALENDAR
