BEGIN:VCALENDAR
VERSION:2.0
X-WR-CALNAME:www.indybay.org
PRODID:-//indybay/ical// v1.0//EN
BEGIN:VEVENT
UID:Indybay-18782102
SEQUENCE:18908404
CREATED:20160121T190000Z
DESCRIPTION:The next meeting of the Cannabis Cultivation Choices Committee will be on 
 Thursday, January 21, 2016 beginning at 12:00 noon at the Parks, Open Space 
 & Cultural Services’ Simpkins Family Swim Center, 979 17th Avenue, Santa 
 Cruz, CA 95062 \n\nPlease note new start time and day of the week for the 
 meeting.\n\n--\n\nAgenda\nhttp://www.scc4.us/Portals/20/pdfs/agendas/20160121_agenda.pdf\n\nAgenda 
 Packet\nhttp://www.scc4.us/Portals/20/pdfs/agendas/20160121_agendapacket.pdf\n\nSubcommittee 
 Reports (12:30-2:30) \n* Indoor Cultivation\n* Cultivation on Land Zoned 
 for Agriculture \n* Rural Neighborhoods\n* Registration Program\n* Survey\n 
 https://www.indybay.org/newsitems/2016/01/21/18782102.php
SUMMARY:Cannabis Cultivation Choices Committee meeting
LOCATION:Simpkins Family Swim Center\n979 17th Avenue\nSanta Cruz, CA 95062
URL:https://www.indybay.org/newsitems/2016/01/21/18782102.php
DTSTART:20160121T200000Z
DTEND:20160121T220000Z
END:VEVENT
END:VCALENDAR
