BEGIN:VCALENDAR
VERSION:2.0
X-WR-CALNAME:www.indybay.org
PRODID:-//indybay/ical// v1.0//EN
BEGIN:VEVENT
UID:Indybay-18781910
SEQUENCE:18908126
CREATED:20160117T024200Z
DESCRIPTION:Join Lake Merritt Neighbors Organized for Peace on our weekly antiwar walk 
 around the lake in Oakland. Every Sunday at 3PM.\n 
 https://www.indybay.org/newsitems/2016/01/16/18781910.php
SUMMARY:LMNOP Weekly Peace Walk
LOCATION:We start and end at the colonnade between Grand and Lakeshore Avenues on 
 Embarcadero. [Near the Grand Lake Theater. Across the street from the 
 Lakeview Library, which is at 550 El Embarcadero, Oakland, CA 94610].
URL:https://www.indybay.org/newsitems/2016/01/16/18781910.php
DTSTART:20160117T230000Z
DTEND:20160118T003000Z
END:VEVENT
END:VCALENDAR
