BEGIN:VCALENDAR
VERSION:2.0
X-WR-CALNAME:www.indybay.org
PRODID:-//indybay/ical// v1.0//EN
BEGIN:VEVENT
UID:Indybay-18781748
SEQUENCE:18907819
CREATED:20160113T175600Z
DESCRIPTION:On the Third Thursday of each month, YBCA combines drinks, food, and music 
 with creative and exciting art happenings. From 5-8 come together, enjoy 
 free access to our world class galleries, and be part of the art at 
 YBCA.\n\nIn January, we invite you to join us for an evening of food, 
 drinks, art, and conversation with the artists featured in Work in 
 Progress: Investigations South of Market. Artists in conversation include 
 Terry Berlier, Val Britton, Tom Loughlin, Weston Teruya, and an interactive 
 project with Stadium Projects (Joshua Peder Stulen, Monte Masi, and Lex 
 Kosieradzki). Don’t miss this opportunity to discuss important and 
 inspiring projects and collaborations that are happening in our SOMA 
 neighborhood. \n\nAll Evening: DJ set by John Fucking Cartwright\n5:30 PM: 
 Gallery Tour of Metahaven: The Sprawl and Kevin Cooley: Golden 
 Prospects\n6:00 PM: Work in Progress Artists Conversations and Action, 
 Grand Lobby and Gallery 1\n\n*Also visit the Cat Museum of San Francisco 
 and stay for the Internet Cat Video Festival in the Screening Room at 7:30 
 PM. \n\n https://www.indybay.org/newsitems/2016/01/13/18781748.php
SUMMARY:Converge: Work in Progress
LOCATION:Yerba Buena Center for the Arts - 701 Mission St. San Francisco , Ca 94103
URL:https://www.indybay.org/newsitems/2016/01/13/18781748.php
DTSTART:20160122T010000Z
DTEND:20160122T040000Z
END:VEVENT
END:VCALENDAR
