BEGIN:VCALENDAR
VERSION:2.0
X-WR-CALNAME:www.indybay.org
PRODID:-//indybay/ical// v1.0//EN
BEGIN:VEVENT
UID:Indybay-18781680
SEQUENCE:18907713
CREATED:20160110T223700Z
DESCRIPTION:January 19th, Tues. 7-9 p.m. Film Showing of "BA Speaks: Revolution - 
 Nothing Less!" \n\nOn this planet today, there are no questions that are 
 more important-and no answers that are more thoroughgoing-than what is 
 spoken to in BA Speaks: REVOLUTION-NOTHING LESS! And there is no person 
 more filled with contempt for the powers-that-be and the horrific order 
 they trumpet and enforce-nor more filled with scientific confidence in the 
 potential of masses of people to change all that-than Bob Avakian, the 
 Chairman of the Revolutionary Communist Party, USA.\n 
 https://www.indybay.org/newsitems/2016/01/10/18781680.php
SUMMARY:Film Showing of "BA Speaks: Revolution - Nothing Less!"
LOCATION:Revolution Books, 2444 Durant Ave, Berkeley, CA 94704
URL:https://www.indybay.org/newsitems/2016/01/10/18781680.php
DTSTART:20160120T030000Z
DTEND:20160120T050000Z
END:VEVENT
END:VCALENDAR
