BEGIN:VCALENDAR
VERSION:2.0
X-WR-CALNAME:www.indybay.org
PRODID:-//indybay/ical// v1.0//EN
BEGIN:VEVENT
UID:Indybay-18781676
SEQUENCE:18907709
CREATED:20160110T221900Z
DESCRIPTION:Discussion on the Oppression of Women: Through which mode of production 
 will any social problem be addressed?\\n\nTuesday, January 12th, 7  p.m. 
 \nA discussion on the oppression of women, focused on "Through which mode 
 of production will any social problem be addressed?" \n\nJoin us for this 
 discussion based on the correspondence from Bob Avakian, "Can This System 
 Do Away With, or Do Without, The Oppression of Women? - A Fundamental 
 Question, a Scientific Approach to the Answer" (from Break All The Chains! 
 Bob Avakian on the Emancipation of Women and the Communist Revolution.)\n 
 https://www.indybay.org/newsitems/2016/01/10/18781676.php
SUMMARY:Discussion on the Oppression of Womem
LOCATION:Revolution Books, 2444 Durant Ave, Berkeley, CA 94704
URL:https://www.indybay.org/newsitems/2016/01/10/18781676.php
DTSTART:20160113T030000Z
DTEND:20160113T050000Z
END:VEVENT
END:VCALENDAR
