BEGIN:VCALENDAR
VERSION:2.0
X-WR-CALNAME:www.indybay.org
PRODID:-//indybay/ical// v1.0//EN
BEGIN:VEVENT
UID:Indybay-18781521
SEQUENCE:18907497
CREATED:20160105T030900Z
DESCRIPTION:Sunday Morning at the Marxist Library\n\nVenezuela: Eyewitness 
 Report\n\nWhat happened in Venezuela's parliamentary elections on December 
 6? This report will convey the impressions and first observations from two 
 recent trips to Venezuela by Rick Sterling.  What were the gains of the 
 Bolivarian Revolution over 17 years?  Why and how was it under attack?  
 What are the prospects in the coming year?   \n\nSunday, Jan 17, 2016 - 
 10:30 am to 12:30 pm\n6501 Telegraph Avenue, Oakland (just North of 
 Alcatraz Ave.)\n\nSeating is limited, so plan to come early. We start 
 promptly.\nFREE - but hat will be passed for donations to NPML\n\n\nAbout 
 Sunday Morning at the Marxist Library\nA weekly discussion series inspired 
 by our respect for the work of Karl Marx and our belief that his work will 
 remain as important for the class struggles of the future as they have been 
 for the past. \n\nFor info or to subscribe to our weekly announcements, 
 \nCall Gene Ruyle at 510-428-1578 or email: cuyleruyle@mac.com\nFor our 
 full schedule, go to icssmarx.org \n\n 
 https://www.indybay.org/newsitems/2016/01/04/18781521.php
SUMMARY:Venezuela: Eyewitness Report
LOCATION:NPML\n6501 Telegraph Avenue, Oakland \n(just North of Alcatraz Ave.)
URL:https://www.indybay.org/newsitems/2016/01/04/18781521.php
DTSTART:20160117T183000Z
DTEND:20160117T203000Z
END:VEVENT
END:VCALENDAR
