BEGIN:VCALENDAR
VERSION:2.0
X-WR-CALNAME:www.indybay.org
PRODID:-//indybay/ical// v1.0//EN
BEGIN:VEVENT
UID:Indybay-18781221
SEQUENCE:18907010
CREATED:20151224T190600Z
DESCRIPTION:The last Sunday of every month attendees of the OO GA will get together a 
 little earlier than usual, at 1 PM to share some food with each others and 
 the community.  There should be a table and utensils/plates courtesy of the 
 Kitchen Committee so come along and bring a nosh to share if you can… 
 Eat-the-Rich-bonapetit\n\nThe Occupy Oakland General Assembly meets every 
 Sunday at 2 PM at Oscar Grant Plaza amphitheater at 14th Street & Broadway, 
 often on the steps of City Hall. If it is raining (as in RAINING, not just 
 misting) at 2:00 PM we meet at the Omni Collective, 4799 Shattuck Ave., 
 Oakland.\n https://www.indybay.org/newsitems/2015/12/24/18781221.php
SUMMARY:Potluck Community Feed Before Occupy Oakland General Assembly
LOCATION:Oscar Grant Plaza amphitheater\n14th & Broadway, Oakland, CA
URL:https://www.indybay.org/newsitems/2015/12/24/18781221.php
DTSTART:20151227T210000Z
DTEND:20151227T220000Z
END:VEVENT
END:VCALENDAR
