BEGIN:VCALENDAR
VERSION:2.0
X-WR-CALNAME:www.indybay.org
PRODID:-//indybay/ical// v1.0//EN
BEGIN:VEVENT
UID:Indybay-18780567
SEQUENCE:18906103
CREATED:20151202T010300Z
DESCRIPTION:Stop Police Terror! Never forget, never forgive, the murder of Eric Garner! 
  Justice for Richard Perkins Jr!\n 
 https://www.indybay.org/newsitems/2015/12/01/18780567.php
SUMMARY:1 year since Eric Garner's murderers walk & Justice for Richard Perkins
LOCATION:90th and Bancroft Ave, Oakland\nThe spot where Oakland Police murdered 
 Richard Perkins Jr. on November 15th, 2015
URL:https://www.indybay.org/newsitems/2015/12/01/18780567.php
DTSTART:20151204T000000Z
DTEND:20151204T020000Z
END:VEVENT
END:VCALENDAR
