BEGIN:VCALENDAR
VERSION:2.0
X-WR-CALNAME:www.indybay.org
PRODID:-//indybay/ical// v1.0//EN
BEGIN:VEVENT
UID:Indybay-18780516
SEQUENCE:18906030
CREATED:20151130T011700Z
DESCRIPTION:\n\n\nFilm evenings begin with optional potluck refreshments & social half 
 hour at 7:00 pm,\nfollowed by the films at 7:30 pm, followed by optional 
 discussion after the films.\n\n\n\nTRIUMPH OF LIFE\n\nEpisode 2: THE FOUR 
 BILLION YEAR WAR\n\na PBS Nature film\n\n\n\nFor a description of this 
 film, see the website shown below.\n\n\n\nHumanist Hall is wheelchair 
 accessible around the corner at 411 28th Street\n\n$5 donations are 
 expected.\n\n\n\n https://www.indybay.org/newsitems/2015/11/29/18780516.php
SUMMARY:Triumph of Life: The Four Billion Year War
LOCATION:Humanist Hall\n390  27th  Street\nuptown Oakland, between Telegraph and 
 Broadway\nhttp://www.HumanistHall.org
URL:https://www.indybay.org/newsitems/2015/11/29/18780516.php
DTSTART:20151210T033000Z
DTEND:20151210T053000Z
END:VEVENT
END:VCALENDAR
