BEGIN:VCALENDAR
VERSION:2.0
X-WR-CALNAME:www.indybay.org
PRODID:-//indybay/ical// v1.0//EN
BEGIN:VEVENT
UID:Indybay-18779675
SEQUENCE:18904733
CREATED:20151105T042700Z
DESCRIPTION:Come for dinner, a movie, and discussion. This film features miners' 
 struggle for wages, health, and safety in New Mexico. We will conclude with 
 Songs by Mike Rufo. \n\nPresented by the Oakland Livable Wage Assembly, 
 www.olwa.org\n\nOLWA FB page: 
 https://www.facebook.com/groups/1568668586707336/ \n 
 https://www.indybay.org/newsitems/2015/11/04/18779675.php
SUMMARY:Dinner and a Movie: Salt of the Earth. Presented by Oakland Livable Wage Assembly
LOCATION:SEIU 1000 Union Hall, 436 14th St Ste 200, Oakland
URL:https://www.indybay.org/newsitems/2015/11/04/18779675.php
DTSTART:20151115T010000Z
DTEND:20151115T060000Z
END:VEVENT
END:VCALENDAR
